BEGIN:VCALENDAR
VERSION:2.0
PRODID:-//AGENCJA ŚLUBNO-EVENTOWA - ECPv6.5.0//NONSGML v1.0//EN
CALSCALE:GREGORIAN
METHOD:PUBLISH
X-WR-CALNAME:AGENCJA ŚLUBNO-EVENTOWA
X-ORIGINAL-URL:https://homeevents.pl
X-WR-CALDESC:Wydarzenia dla AGENCJA ŚLUBNO-EVENTOWA
REFRESH-INTERVAL;VALUE=DURATION:PT1H
X-Robots-Tag:noindex
X-PUBLISHED-TTL:PT1H
BEGIN:VTIMEZONE
TZID:Europe/Warsaw
BEGIN:DAYLIGHT
TZOFFSETFROM:+0100
TZOFFSETTO:+0200
TZNAME:CEST
DTSTART:20150329T010000
END:DAYLIGHT
BEGIN:STANDARD
TZOFFSETFROM:+0200
TZOFFSETTO:+0100
TZNAME:CET
DTSTART:20151025T010000
END:STANDARD
END:VTIMEZONE
BEGIN:VEVENT
DTSTART;TZID=Europe/Warsaw:20150602T080000
DTEND;TZID=Europe/Warsaw:20151025T170000
DTSTAMP:20260422T141053
CREATED:20150212T133400Z
LAST-MODIFIED:20150212T133400Z
UID:297-1433232000-1445792400@homeevents.pl
SUMMARY:Individual therapy
DESCRIPTION:Nam posse doming cu\, ea vis dicunt doctus persius\, ut vis aperiri explicari. Cu persecuti consetetur cum\, quo impetus epicurei indoctum ne. Ea cum omittam tacimates erroribus.
URL:https://homeevents.pl/event/individual-therapy-2015-06-02/
LOCATION:Office number two\, Street 456\, London\, United Kingdom
END:VEVENT
BEGIN:VEVENT
DTSTART;TZID=Europe/Warsaw:20150531T110000
DTEND;TZID=Europe/Warsaw:20150906T150000
DTSTAMP:20260422T141053
CREATED:20150212T133624Z
LAST-MODIFIED:20150212T133624Z
UID:220-1433070000-1441551600@homeevents.pl
SUMMARY:Psychotherapy part three
DESCRIPTION:Nam posse doming cu\, ea vis dicunt doctus persius\, ut vis aperiri explicari. Cu persecuti consetetur cum\, quo impetus epicurei indoctum ne. Ea cum omittam tacimates erroribus.
URL:https://homeevents.pl/event/psychotherapy-part-three/
LOCATION:Office name\, Street 123\, New York\, United States
END:VEVENT
BEGIN:VEVENT
DTSTART;TZID=Europe/Warsaw:20150531T110000
DTEND;TZID=Europe/Warsaw:20150906T150000
DTSTAMP:20260422T141053
CREATED:20150212T133624Z
LAST-MODIFIED:20150212T133624Z
UID:298-1433070000-1441551600@homeevents.pl
SUMMARY:Psychotherapy part three
DESCRIPTION:Nam posse doming cu\, ea vis dicunt doctus persius\, ut vis aperiri explicari. Cu persecuti consetetur cum\, quo impetus epicurei indoctum ne. Ea cum omittam tacimates erroribus.
URL:https://homeevents.pl/event/psychotherapy-part-three-2015-05-31/
LOCATION:Office name\, Street 123\, New York\, United States
END:VEVENT
BEGIN:VEVENT
DTSTART;TZID=Europe/Warsaw:20150531T080000
DTEND;TZID=Europe/Warsaw:20151206T170000
DTSTAMP:20260422T141053
CREATED:20150212T133733Z
LAST-MODIFIED:20150212T133733Z
UID:221-1433059200-1449421200@homeevents.pl
SUMMARY:Psychotherapy for couples 2
DESCRIPTION:Nam posse doming cu\, ea vis dicunt doctus persius\, ut vis aperiri explicari. Cu persecuti consetetur cum\, quo impetus epicurei indoctum ne. Ea cum omittam tacimates erroribus.
URL:https://homeevents.pl/event/psychotherapy-for-couples-2/
LOCATION:Office number two\, Street 456\, London\, United Kingdom
END:VEVENT
BEGIN:VEVENT
DTSTART;TZID=Europe/Warsaw:20150531T080000
DTEND;TZID=Europe/Warsaw:20151206T170000
DTSTAMP:20260422T141053
CREATED:20150212T133733Z
LAST-MODIFIED:20150212T133733Z
UID:299-1433059200-1449421200@homeevents.pl
SUMMARY:Psychotherapy for couples 2
DESCRIPTION:Nam posse doming cu\, ea vis dicunt doctus persius\, ut vis aperiri explicari. Cu persecuti consetetur cum\, quo impetus epicurei indoctum ne. Ea cum omittam tacimates erroribus.
URL:https://homeevents.pl/event/psychotherapy-for-couples-2-2015-05-31/
LOCATION:Office number two\, Street 456\, London\, United Kingdom
END:VEVENT
END:VCALENDAR